BEGIN:VCALENDAR
VERSION:2.0
PRODID:-//Kopy Kat Sanctuary - ECPv6.15.17.1//NONSGML v1.0//EN
CALSCALE:GREGORIAN
METHOD:PUBLISH
X-ORIGINAL-URL:https://www.kopykatsanctuary.com
X-WR-CALDESC:Events for Kopy Kat Sanctuary
REFRESH-INTERVAL;VALUE=DURATION:PT1H
X-Robots-Tag:noindex
X-PUBLISHED-TTL:PT1H
BEGIN:VTIMEZONE
TZID:UTC
BEGIN:STANDARD
TZOFFSETFROM:+0000
TZOFFSETTO:+0000
TZNAME:UTC
DTSTART:20250101T000000
END:STANDARD
END:VTIMEZONE
BEGIN:VEVENT
DTSTART;TZID=UTC:20260101T000000
DTEND;TZID=UTC:20260131T235959
DTSTAMP:20260421T200649
CREATED:20260102T214402Z
LAST-MODIFIED:20260102T214402Z
UID:136-1767225600-1769903999@www.kopykatsanctuary.com
SUMMARY:Jay's birthday fundraiser for Kopy Kat Sanctuary
DESCRIPTION:Jay Cherup has generously volunteered to hold an online fundraiser through Facebook’s donation platform as a way to celebrate his birthday and all of the good work that is done at Kopy Kat. Please consider donating while the fundraiser is active in January! \nhttps://www.facebook.com/donate/1160443946236879/1160443969570210
URL:https://www.kopykatsanctuary.com/event/jays-birthday-fundraiser-for-kopy-kat-sanctuary/
LOCATION:PA
END:VEVENT
END:VCALENDAR